BEGIN:VCALENDAR
VERSION:2.0
PRODID:icalendar-ruby
CALSCALE:GREGORIAN
METHOD:PUBLISH
BEGIN:VEVENT
DTSTAMP:20260423T115505Z
UID:17-401503@stpaullakeland.com
DTSTART:20260601T140000Z
DTEND:20260606T170000Z
CLASS:PUBLIC
CREATED:20260422T124441
DESCRIPTION:Click here to register!
LAST-MODIFIED:20260422T124441
LOCATION:
SUMMARY:Drama Camp
URL;VALUE=URI:https://www.stpaullakeland.com/events/drama-camp--17/2026-06-
 01
ATTACH;FILENAME=Drama-Competition-Poster-in-Yellow-Pink-Green-Cartoon-Style
 .png;FMTTYPE=image/png:https://dq5pwpg1q8ru0.cloudfront.net/2026/04/22/17/
 44/40/85983bb6-41c9-423a-aa6c-ae262f6da09b/Drama-Competition-Poster-in-Yel
 low-Pink-Green-Cartoon-Style.png
END:VEVENT
END:VCALENDAR
