BEGIN:VCALENDAR
VERSION:2.0
PRODID:icalendar-ruby
CALSCALE:GREGORIAN
METHOD:PUBLISH
BEGIN:VEVENT
DTSTAMP:20260423T114830Z
UID:16-401502@stpaullakeland.com
DTSTART:20260515T233000Z
DTEND:20260516T010000Z
CLASS:PUBLIC
CREATED:20260422T124106
DESCRIPTION:
LAST-MODIFIED:20260422T124106
LOCATION:St Paul Fellowship Hall
SUMMARY:Family Movie Night
URL;VALUE=URI:https://www.stpaullakeland.com/events/family-movie-night/2026
 -05-15
ATTACH;FILENAME=Black-Popcorn-Movie-Night-Invitation.png;FMTTYPE=image/png:
 https://dq5pwpg1q8ru0.cloudfront.net/2026/04/22/17/41/06/d1060f52-4c54-427
 0-ad2f-5c816693512a/Black-Popcorn-Movie-Night-Invitation.png
END:VEVENT
END:VCALENDAR
