BEGIN:VCALENDAR
VERSION:2.0
PRODID:icalendar-ruby
CALSCALE:GREGORIAN
METHOD:PUBLISH
BEGIN:VEVENT
DTSTAMP:20260423T132308Z
UID:15-401501@stpaullakeland.com
DTSTART:20260622T224500Z
DTEND:20260626T013000Z
CLASS:PUBLIC
CREATED:20260422T123914
DESCRIPTION:Click here to register
LAST-MODIFIED:20260422T123914
LOCATION:St. Paul UMC 
SUMMARY:Rainforest Falls VBS 2026
URL;VALUE=URI:https://www.stpaullakeland.com/events/rainforest-falls-vbs-20
 26/2026-06-22
ATTACH;FILENAME=We-cant-wait-to-see-you-at-Vacation-Bible-School-this-year-
 2.png;FMTTYPE=image/png:https://dq5pwpg1q8ru0.cloudfront.net/2026/04/22/17
 /39/13/c1e00701-c5ef-4692-a9bf-68a32de53156/We-cant-wait-to-see-you-at-Vac
 ation-Bible-School-this-year-2.png
END:VEVENT
END:VCALENDAR
